BEGIN:VCALENDAR
VERSION:2.0
CALSCALE:GREGORIAN
PRODID:-//Diputació de Barcelona//DibaCMS//EN
BEGIN:VEVENT
UID:1889
DTSTAMP:20260424T140037
DTSTART:20191116T093000
DTEND:20191116T140000
SUMMARY:BTT Industrial Cardener 2019
LOCATION:Sortida Baixador ECORAIL (Mas Sant Iscle), Sant Fruitós de Bages. 
METHOD:PUBLISH
X-WR-CALNAME:mcic.mic@mintercar.cat
X-WR-TIMEZONE:Europe/Madrid
DESCRIPTION:Ruta circular 30 km (3 hores aprox.): Sant Fruitós de Bages - Santpedor - Castellnou de Bages - Sant Fruitós de Bages (el recorregut s'adaptarà al nivell).

URI:https://www.mintercar.cat/actualitat/agenda/1889-btt-industrial-cardener-2019.html
CLASS:PUBLIC
END:VEVENT
END:VCALENDAR
